BEGIN:VCALENDAR
VERSION:2.0
PRODID:-//SHG Duisburg - ECPv6.15.20//NONSGML v1.0//EN
CALSCALE:GREGORIAN
METHOD:PUBLISH
X-ORIGINAL-URL:https://shg-duisburg.schulon.org
X-WR-CALDESC:Veranstaltungen für SHG Duisburg
REFRESH-INTERVAL;VALUE=DURATION:PT1H
X-Robots-Tag:noindex
X-PUBLISHED-TTL:PT1H
BEGIN:VTIMEZONE
TZID:UTC
BEGIN:STANDARD
TZOFFSETFROM:+0000
TZOFFSETTO:+0000
TZNAME:UTC
DTSTART:20240101T000000
END:STANDARD
END:VTIMEZONE
BEGIN:VEVENT
DTSTART;TZID=UTC:20250711T080000
DTEND;TZID=UTC:20250711T113000
DTSTAMP:20260419T130812
CREATED:20250516T105725Z
LAST-MODIFIED:20250516T105725Z
UID:73497-1752220800-1752233400@shg-duisburg.schulon.org
SUMMARY:Zeugnisausgabe
DESCRIPTION:
URL:https://shg-duisburg.schulon.org/event/zeugnisausgabe-2/
END:VEVENT
END:VCALENDAR